BEGIN:VCALENDAR
VERSION:2.0
PRODID:spatie/icalendar-generator
DESCRIPTION:Veranstaltungen von Tierheim Siegen
X-WR-CALDESC:Veranstaltungen von Tierheim Siegen
REFRESH-INTERVAL;VALUE=DURATION:PT1440M
X-PUBLISHED-TTL:PT1440M
BEGIN:VTIMEZONE
TZID:Europe/Berlin
BEGIN:DAYLIGHT
DTSTART:20250330T020000Z
TZOFFSETFROM:+0100
TZOFFSETTO:+0200
END:DAYLIGHT
BEGIN:STANDARD
DTSTART:20251026T030000Z
TZOFFSETFROM:+0200
TZOFFSETTO:+0100
END:STANDARD
END:VTIMEZONE
BEGIN:VTIMEZONE
TZID:UTC
BEGIN:STANDARD
DTSTART:20250724T082036Z
TZOFFSETFROM:+0000
TZOFFSETTO:+0000
END:STANDARD
END:VTIMEZONE
BEGIN:VEVENT
UID:196-5
DTSTAMP:20260420T082036Z
SUMMARY:Bauernhofwoche - leider bereits ausgebucht!
LOCATION:Tierheim Siegen Heidenbergstraße 91  Siegen NRW 57072
ORGANIZER;CN=Tobias:MAILTO:t.neumann@tierheim-siegen.de
DTSTART;TZID=Europe/Berlin;VALUE=DATE:20250818
DTEND;TZID=Europe/Berlin;VALUE=DATE:20250823
X-ALT-DESC;FMTTYPE=TEXT/HTML:Leider bereits ausgebucht!Dieser Termin ist ak
 tuell vollständig belegt – vielen Dank für das große Interesse!Du mö
 chtest trotzdem dabei sein? Schau gern bei unseren anderen Veranstaltungen
  vorbei – vielleicht ist da noch ein Platz für dich frei! &amp;nbsp\; Vom 1
 8. bis 22. August 2025\, täglich von 9.00 bis 15 Uhr\, findet die Veranst
 altung Rund um den&amp;hellip\;
CATEGORIES:Ferienspaß,  Wilde Wiesel
URL;VALUE=URI:https://www.tierheim-siegen.de/mc-events/bauernhofwoche-leide
 r-bereits-ausgebucht/
METHOD:PUBLISH
END:VEVENT
END:VCALENDAR